BEGIN:VCALENDAR
VERSION:2.0
PRODID:-//Seaforth Highlanders of Holland//Activiteiten//NL
X-WR-CALNAME:The Seaforth Highlanders of Holland
X-WR-CALDESC:Agenda The Seaforth Highlanders of Holland
X-WR-TIMEZONE:Europe/Amsterdam
X-PUBLISHED-TTL:PT12
BEGIN:VTIMEZONE
TZID:Europe/Amsterdam
X-LIC-LOCATION:Europe/Amsterdam
BEGIN:DAYLIGHT
TZNAME:CEST
TZOFFSETFROM:+0100
TZOFFSETTO:+0200
DTSTART:19810329T030000
RRULE:FREQ=YEARLY;INTERVAL=1;BYMONTH=3;BYDAY=-1SU
END:DAYLIGHT
BEGIN:STANDARD
TZNAME:CET
TZOFFSETFROM:+0200
TZOFFSETTO:+0100
DTSTART:19961027T030000
RRULE:FREQ=YEARLY;INTERVAL=1;BYMONTH=10;BYDAY=-1SU
END:STANDARD
END:VTIMEZONE
BEGIN:VEVENT
UID:2026-69411b88a8807446@calendar.seaforth.nl
DTSTART:20260411T073000Z
SEQUENCE:0
TRANSP:OPAQUE
STATUS:CONFIRMED
DTEND:20260123T110000Z
URL:https://www.seaforth.nl/event/693
LOCATION:voorthuizen
SUMMARY:Optreden: voorthuizen straalt
CLASS:PUBLIC
DESCRIPTION:Naam Evenement: voorthuizen straalt\n\nLaatst gesynchroniseerd 
 om: 24 apr. 2026 02:00:52\nhttps://www.seaforth.nl/event/693
ORGANIZER;CN=Bandmanager Seaforth.nl:mailto:bandmanager@seaforth.nl
DTSTAMP:20260424T000052Z
END:VEVENT
BEGIN:VEVENT
UID:2025-2ba41e701ec0f5be@calendar.seaforth.nl
DTSTART:20260411T113000Z
SEQUENCE:0
TRANSP:OPAQUE
STATUS:CONFIRMED
DTEND:20260411T130000Z
URL:https://www.seaforth.nl/event/683
LOCATION:Gortel
SUMMARY:Optreden: Broken Wings
CLASS:PUBLIC
DESCRIPTION:Naam Evenement: Broken Wings\nSoort Evenement: Herdenking\nWebs
 ite: www.brokenwings.nl\n\nLaatst gesynchroniseerd om: 24 apr. 2026 02:00:
 52\nhttps://www.seaforth.nl/event/683
ORGANIZER;CN=Bandmanager Seaforth.nl:mailto:bandmanager@seaforth.nl
DTSTAMP:20260424T000052Z
END:VEVENT
BEGIN:VEVENT
UID:2026-c48cd7dcc53bb39f@calendar.seaforth.nl
DTSTART:20260412T090000Z
SEQUENCE:0
TRANSP:OPAQUE
STATUS:CONFIRMED
DTEND:20260412T140000Z
URL:https://www.seaforth.nl/event/697
LOCATION:wilp
SUMMARY:Optreden: Wilp
CLASS:PUBLIC
DESCRIPTION:Naam Evenement: Wilp\n\nLaatst gesynchroniseerd om: 24 apr. 202
 6 02:00:52\nhttps://www.seaforth.nl/event/697
ORGANIZER;CN=Bandmanager Seaforth.nl:mailto:bandmanager@seaforth.nl
DTSTAMP:20260424T000052Z
END:VEVENT
BEGIN:VEVENT
UID:2026-9e7b820b987c9395@calendar.seaforth.nl
DTSTART:20260505T063000Z
SEQUENCE:0
TRANSP:OPAQUE
STATUS:CONFIRMED
DTEND:20260505T215900Z
URL:https://www.seaforth.nl/event/696
LOCATION:wageningen
SUMMARY:Optreden: wageningen
CLASS:PUBLIC
DESCRIPTION:Naam Evenement: wageningen\n\nLaatst gesynchroniseerd om: 24 ap
 r. 2026 02:00:52\nhttps://www.seaforth.nl/event/696
ORGANIZER;CN=Bandmanager Seaforth.nl:mailto:bandmanager@seaforth.nl
DTSTAMP:20260424T000052Z
END:VEVENT
BEGIN:VEVENT
UID:2026-dce7ad191e4af561@calendar.seaforth.nl
DTSTART:20260529T163000Z
SEQUENCE:0
TRANSP:OPAQUE
STATUS:CONFIRMED
DTEND:20260529T200000Z
URL:https://www.seaforth.nl/event/704
LOCATION:Voorthuizen
SUMMARY:Optreden: avondvierdaagse voorthuizen
CLASS:PUBLIC
DESCRIPTION:Naam Evenement: avondvierdaagse voorthuizen\n\nLaatst gesynchro
 niseerd om: 24 apr. 2026 02:00:52\nhttps://www.seaforth.nl/event/704
ORGANIZER;CN=Bandmanager Seaforth.nl:mailto:bandmanager@seaforth.nl
DTSTAMP:20260424T000052Z
END:VEVENT
BEGIN:VEVENT
UID:2026-55ea300012ea2add@calendar.seaforth.nl
DTSTART;VALUE=DATE:20260530
SEQUENCE:0
TRANSP:OPAQUE
STATUS:CONFIRMED
URL:https://www.seaforth.nl/event/691
LOCATION:nijkerk
SUMMARY:Optreden: veluwse wandeltocht
CLASS:PUBLIC
DESCRIPTION:Naam Evenement: veluwse wandeltocht\n\nLaatst gesynchroniseerd 
 om: 24 apr. 2026 02:00:52\nhttps://www.seaforth.nl/event/691
ORGANIZER;CN=Bandmanager Seaforth.nl:mailto:bandmanager@seaforth.nl
X-MICROSOFT-CDO-ALLDAYEVENT:TRUE
DTSTAMP:20260424T000052Z
END:VEVENT
BEGIN:VEVENT
UID:2026-3202442062d2f912@calendar.seaforth.nl
DTSTART:20260905T031500Z
SEQUENCE:0
TRANSP:OPAQUE
STATUS:CONFIRMED
DTEND:20260905T150000Z
URL:https://www.seaforth.nl/event/695
LOCATION:Arnhem
SUMMARY:Optreden: airborn wandeltocht
CLASS:PUBLIC
DESCRIPTION:Naam Evenement: airborn wandeltocht\n\nLaatst gesynchroniseerd 
 om: 24 apr. 2026 02:00:52\nhttps://www.seaforth.nl/event/695
ORGANIZER;CN=Bandmanager Seaforth.nl:mailto:bandmanager@seaforth.nl
DTSTAMP:20260424T000052Z
END:VEVENT
BEGIN:VEVENT
UID:2026-9ee65b311eda0603@calendar.seaforth.nl
DTSTART:20260918T110000Z
SEQUENCE:0
TRANSP:OPAQUE
STATUS:CONFIRMED
DTEND:20260918T140000Z
URL:https://www.seaforth.nl/event/701
LOCATION:renkum
SUMMARY:Optreden: Renkum Airborne
CLASS:PUBLIC
DESCRIPTION:Naam Evenement: Renkum Airborne\n\nLaatst gesynchroniseerd om: 
 24 apr. 2026 02:00:52\nhttps://www.seaforth.nl/event/701
ORGANIZER;CN=Bandmanager Seaforth.nl:mailto:bandmanager@seaforth.nl
DTSTAMP:20260424T000052Z
END:VEVENT
BEGIN:VEVENT
UID:2026-30cfd3cb7d3e85ea@calendar.seaforth.nl
DTSTART:20261108T100000Z
SEQUENCE:0
TRANSP:OPAQUE
STATUS:CONFIRMED
DTEND:20261108T110000Z
URL:https://www.seaforth.nl/event/699
LOCATION:Holten
SUMMARY:Optreden: remembrance day holten
CLASS:PUBLIC
DESCRIPTION:Naam Evenement: remembrance day holten\n\nLaatst gesynchronisee
 rd om: 24 apr. 2026 02:00:52\nhttps://www.seaforth.nl/event/699
ORGANIZER;CN=Bandmanager Seaforth.nl:mailto:bandmanager@seaforth.nl
DTSTAMP:20260424T000052Z
END:VEVENT
BEGIN:VEVENT
UID:2026-9957b0fb55d03868@calendar.seaforth.nl
DTSTART:20261108T121500Z
SEQUENCE:0
TRANSP:OPAQUE
STATUS:CONFIRMED
DTEND:20261108T133000Z
URL:https://www.seaforth.nl/event/698
LOCATION:nunspeet
SUMMARY:Optreden: remembrance day Nunspeet
CLASS:PUBLIC
DESCRIPTION:Naam Evenement: remembrance day Nunspeet\n\nLaatst gesynchronis
 eerd om: 24 apr. 2026 02:00:52\nhttps://www.seaforth.nl/event/698
ORGANIZER;CN=Bandmanager Seaforth.nl:mailto:bandmanager@seaforth.nl
DTSTAMP:20260424T000052Z
END:VEVENT
END:VCALENDAR